BEGIN:VCALENDAR
VERSION:2.0
PRODID:-//Bosgroepen.be - ECPv6.15.20//NONSGML v1.0//EN
CALSCALE:GREGORIAN
METHOD:PUBLISH
X-ORIGINAL-URL:https://bosgroepen.be
X-WR-CALDESC:Evenementen voor Bosgroepen.be
REFRESH-INTERVAL;VALUE=DURATION:PT1H
X-Robots-Tag:noindex
X-PUBLISHED-TTL:PT1H
BEGIN:VTIMEZONE
TZID:Europe/Amsterdam
BEGIN:DAYLIGHT
TZOFFSETFROM:+0100
TZOFFSETTO:+0200
TZNAME:CEST
DTSTART:20160327T010000
END:DAYLIGHT
BEGIN:STANDARD
TZOFFSETFROM:+0200
TZOFFSETTO:+0100
TZNAME:CET
DTSTART:20161030T010000
END:STANDARD
BEGIN:DAYLIGHT
TZOFFSETFROM:+0100
TZOFFSETTO:+0200
TZNAME:CEST
DTSTART:20170326T010000
END:DAYLIGHT
BEGIN:STANDARD
TZOFFSETFROM:+0200
TZOFFSETTO:+0100
TZNAME:CET
DTSTART:20171029T010000
END:STANDARD
BEGIN:DAYLIGHT
TZOFFSETFROM:+0100
TZOFFSETTO:+0200
TZNAME:CEST
DTSTART:20180325T010000
END:DAYLIGHT
BEGIN:STANDARD
TZOFFSETFROM:+0200
TZOFFSETTO:+0100
TZNAME:CET
DTSTART:20181028T010000
END:STANDARD
END:VTIMEZONE
BEGIN:VEVENT
DTSTART;VALUE=DATE:20170520
DTEND;VALUE=DATE:20170522
DTSTAMP:20260425T140853
CREATED:20170424T085902Z
LAST-MODIFIED:20170424T085902Z
UID:1389-1495238400-1495411199@bosgroepen.be
SUMMARY:Natuurfeest in het Vrieselhof te Ranst
DESCRIPTION:Het volledige programma van het Natuurfeest 2017 kan u terugvinden via onderstaande link naar de website. \nBOSFIETSTOCHT georganiseerd door de Bosgroepen en de Regionaal Landschappen \nHet bosrijke gebied rond het fort van Oelegem heeft heel wat te bieden. Het Regionaal Landschap en de Bosgroep zijn er al vele jaren actief. Al fietsend passeren we enkele kleine en grote realisaties van het Regionaal Landschap de Voorkempen en de Bosgroep. Pomp je banden maar al op en trap mee doorheen de prachtige natuur rond het Vrieselhof. \nU dient zelf een fiets te voorzien! \nAfspraak: \n\ntocht 1 start om 10u (tot 12u)\ntocht 2 start om 14u (tot 16u)\n\nInschrijven: \nInschrijven is verplicht! Voor deelname aan excursie en workshops is vooraf online inschrijven gewenst via via onderstaande link naar de website. \nTel: 03/240.59.88 \nemail: ankona@provincieantwerpen.be \nLet op maximum 20 deelnemers per tocht!
URL:https://bosgroepen.be/event/natuurfeest-in-het-vrieselhof-te-ranst/
LOCATION:Vrieselhof\, Schildesteenweg 99\, Ranst\, Antwerpen\, 2520\, België
CATEGORIES:Bosgroep Antwerpen Noord,Bosgroep Antwerpen Zuid
END:VEVENT
BEGIN:VEVENT
DTSTART;TZID=Europe/Amsterdam:20170323T190000
DTEND;TZID=Europe/Amsterdam:20170323T220000
DTSTAMP:20260425T140853
CREATED:20170124T080550Z
LAST-MODIFIED:20170124T081134Z
UID:1148-1490295600-1490306400@bosgroepen.be
SUMMARY:Algemene Ledenvergadering Bosgroep Antwerpen Noord
DESCRIPTION:Op donderdag 23 maart 2017 brengt onze jaarlijkse Algemene Vergadering ons naar een boeiend groen gebied in Brecht. We ontdekken het gebied De Merel met zijn rijke historische geschiedenis van heide en mestpacht tot het huidige lokale bosbeheer en ook onze recent uitgevoerde aanplantingen. Nadien wordt op wandelafstand de Algemene Vergadering gehouden op de locatie van Camping De Groene Linden\, met een toelichting van de realisaties van 2016 en een vooruitblik naar 2017. We ronden af met een gezellige receptie onder boseigenaars. \nVan harte welkom! \n  \nAfspraakplaats: Samenkomst op donderdag 23 maart om 16u aan de parking in Camping De Groene Linden\nAdres: Camping De Groene Linden\, Schotensteenweg 62-64\, Brecht\nInschrijving: Zowel voor de wandeling als de vergadering is vooraf inschrijven noodzakelijk vóór vrijdag 10 maart 2017 via mail naar antwerpennoord@bosgroep.be of telefonisch naar 03/355.09.40.
URL:https://bosgroepen.be/event/algemene-ledenvergadering-voorafgegaan-door-boeiende-wandeling-te-brecht/
LOCATION:De Groene Linden\, Schotensteenweg 62-64\, Brecht\, Antwerpen\, 2960\, België
CATEGORIES:Bosgroep Antwerpen Noord
ATTACH;FMTTYPE=image/jpeg:https://bosgroepen.be/wp-content/uploads/2017/01/IMG_0650.jpg
ORGANIZER;CN="Bosgroep Antwerpen Noord vzw":MAILTO:antwerpennoord@bosgroep.be
END:VEVENT
BEGIN:VEVENT
DTSTART;TZID=Europe/Amsterdam:20170323T160000
DTEND;TZID=Europe/Amsterdam:20170323T190000
DTSTAMP:20260425T140853
CREATED:20170124T080846Z
LAST-MODIFIED:20170124T080846Z
UID:1157-1490284800-1490295600@bosgroepen.be
SUMMARY:Boeiende wandeling doorheen De Merel te Brecht
DESCRIPTION:Op donderdag 23 maart 2017 brengt onze jaarlijkse Algemene Vergadering ons naar een boeiend groen gebied in Brecht. We ontdekken het gebied De Merel met zijn rijke historische geschiedenis van heide en mestpacht tot het huidige lokale bosbeheer en ook onze recent uitgevoerde aanplantingen. Nadien wordt op wandelafstand de Algemene Vergadering gehouden op de locatie van Camping De Groene Linden\, met een toelichting van de realisaties van 2016 en een vooruitblik naar 2017. We ronden af met een gezellige receptie onder boseigenaars. \nVan harte welkom! \nAfspraakplaats: Samenkomst op donderdag 23 maart om 16u aan de parking in Camping De Groene Linden\nAdres: Camping De Groene Linden\, Schotensteenweg 62-64\, Brecht\nInschrijving: Zowel voor de wandeling als de vergadering is vooraf inschrijven noodzakelijk vóór vrijdag 10 maart 2017 via mail naar antwerpennoord@bosgroep.be of telefonisch naar 03/355.09.40.
URL:https://bosgroepen.be/event/boeiende-wandeling-doorheen-de-merel-te-brecht/
LOCATION:De Groene Linden\, Schotensteenweg 62-64\, Brecht\, Antwerpen\, 2960\, België
CATEGORIES:Bosgroep Antwerpen Noord
ATTACH;FMTTYPE=image/jpeg:https://bosgroepen.be/wp-content/uploads/2017/01/BGAN_Bosgazet-editie-41-kalender.jpg
END:VEVENT
END:VCALENDAR