BEGIN:VCALENDAR
VERSION:2.0
PRODID:-//Bosgroepen.be - ECPv6.15.20//NONSGML v1.0//EN
CALSCALE:GREGORIAN
METHOD:PUBLISH
X-ORIGINAL-URL:https://bosgroepen.be
X-WR-CALDESC:Evenementen voor Bosgroepen.be
REFRESH-INTERVAL;VALUE=DURATION:PT1H
X-Robots-Tag:noindex
X-PUBLISHED-TTL:PT1H
BEGIN:VTIMEZONE
TZID:Europe/Amsterdam
BEGIN:DAYLIGHT
TZOFFSETFROM:+0100
TZOFFSETTO:+0200
TZNAME:CEST
DTSTART:20250330T010000
END:DAYLIGHT
BEGIN:STANDARD
TZOFFSETFROM:+0200
TZOFFSETTO:+0100
TZNAME:CET
DTSTART:20251026T010000
END:STANDARD
BEGIN:DAYLIGHT
TZOFFSETFROM:+0100
TZOFFSETTO:+0200
TZNAME:CEST
DTSTART:20260329T010000
END:DAYLIGHT
BEGIN:STANDARD
TZOFFSETFROM:+0200
TZOFFSETTO:+0100
TZNAME:CET
DTSTART:20261025T010000
END:STANDARD
BEGIN:DAYLIGHT
TZOFFSETFROM:+0100
TZOFFSETTO:+0200
TZNAME:CEST
DTSTART:20270328T010000
END:DAYLIGHT
BEGIN:STANDARD
TZOFFSETFROM:+0200
TZOFFSETTO:+0100
TZNAME:CET
DTSTART:20271031T010000
END:STANDARD
END:VTIMEZONE
BEGIN:VEVENT
DTSTART;TZID=Europe/Amsterdam:20260610T193000
DTEND;TZID=Europe/Amsterdam:20260610T223000
DTSTAMP:20260424T193330
CREATED:20260209T145119Z
LAST-MODIFIED:20260209T145211Z
UID:10375-1781119800-1781130600@bosgroepen.be
SUMMARY:Zomeravond in het arboretum
DESCRIPTION:In het arboretum van Koekelare is het heerlijk en leerrijk wandelen. Je vind hier maar liefst 140 boomsoorten. Deze ‘bomentuin’ werd na WOII aangelegd met een wetenschappelijk doel. Men wilde weten of de uitheemse bomen in ons klimaat voldoende snel zouden groeien voor houtopbrengst. Nu staat de natuurbeleving onder een gevarieerd bladerdak er voorop. Maar met het oog op klimaatverandering\, wordt het wetenschappelijk experiment toch weer interessant. De avond wordt zo voer voor boeiende discussies. Voor wie nog niet is uitgepraat\, sluiten we af met een gezellige drink in het bos! \nWaar?  Bovekerkestraat 9 (arboretum) en Litterveldstraat 10 (parking) Koekelare \nPrijs? gratis \nInschrijven? bosgroephoutland@west-vlaanderen.be of via deze link \nGids? Koen Maertens (ANB) en collega’s
URL:https://bosgroepen.be/event/zomeravond-in-het-arboretum/
LOCATION:Arboretum Koekelare\, Litterveldstraat 10\, Koekelare\, Belgium
CATEGORIES:Bosgroep Houtland
ATTACH;FMTTYPE=image/jpeg:https://bosgroepen.be/wp-content/uploads/2026/02/13_foto_2.jpg
END:VEVENT
END:VCALENDAR