BEGIN:VCALENDAR
VERSION:2.0
PRODID:-//Bosgroepen.be - ECPv6.15.20//NONSGML v1.0//EN
CALSCALE:GREGORIAN
METHOD:PUBLISH
X-ORIGINAL-URL:https://bosgroepen.be
X-WR-CALDESC:Evenementen voor Bosgroepen.be
REFRESH-INTERVAL;VALUE=DURATION:PT1H
X-Robots-Tag:noindex
X-PUBLISHED-TTL:PT1H
BEGIN:VTIMEZONE
TZID:Europe/Amsterdam
BEGIN:DAYLIGHT
TZOFFSETFROM:+0100
TZOFFSETTO:+0200
TZNAME:CEST
DTSTART:20230326T010000
END:DAYLIGHT
BEGIN:STANDARD
TZOFFSETFROM:+0200
TZOFFSETTO:+0100
TZNAME:CET
DTSTART:20231029T010000
END:STANDARD
BEGIN:DAYLIGHT
TZOFFSETFROM:+0100
TZOFFSETTO:+0200
TZNAME:CEST
DTSTART:20240331T010000
END:DAYLIGHT
BEGIN:STANDARD
TZOFFSETFROM:+0200
TZOFFSETTO:+0100
TZNAME:CET
DTSTART:20241027T010000
END:STANDARD
BEGIN:DAYLIGHT
TZOFFSETFROM:+0100
TZOFFSETTO:+0200
TZNAME:CEST
DTSTART:20250330T010000
END:DAYLIGHT
BEGIN:STANDARD
TZOFFSETFROM:+0200
TZOFFSETTO:+0100
TZNAME:CET
DTSTART:20251026T010000
END:STANDARD
END:VTIMEZONE
BEGIN:VEVENT
DTSTART;TZID=Europe/Amsterdam:20240615T133000
DTEND;TZID=Europe/Amsterdam:20240615T170000
DTSTAMP:20260425T005527
CREATED:20240508T114800Z
LAST-MODIFIED:20240508T135733Z
UID:8480-1718458200-1718470800@bosgroepen.be
SUMMARY:Beleef het bos
DESCRIPTION:Welkom in Hof ter Saksen in Beveren voor een nature proof namiddag! \nOp het programma: natuurwandelingen met gids\, demo houtbewerking\, workshop natuurfotografie en demo bijen en het bos. Voor de kleinsten zijn er onder meer gekke kapsels\, een kriebeldierentocht en bodemdierbingo. De Orangerie is open voor drankjes en lekkers. Ontdek het volledige programma op op bosgroepen.be/beleefhetbos.  \nBosgroep Oost-Vlaanderen organiseert dit event ter afronding van het pdpo-project Klimaatrobuuste bossen voor het Waasland. Op deze dag delen we de resultaten van het project waarbij we de voorbije jaren samen met onze partners en talrijke boseigenaars uit de regio zorgden voor bossen die beter bestand zijn tegen het veranderende klimaat. \n\nzaterdag 15 juni van 13u30 tot 17u \nHof ter Saksen\, Hof ter Saksendreef 2\, Beveren\n \nEr is plaats voor auto’s en fietsen op de parking aan Hof ter Saksendreef 2.\nHof ter Saksen ligt aan de gelijknamige halte van lijn 82 van De Lijn.
URL:https://bosgroepen.be/event/beleef-het-bos/
CATEGORIES:Bosgroep Oost-Vlaanderen
ATTACH;FMTTYPE=image/jpeg:https://bosgroepen.be/wp-content/uploads/2024/05/Beeld-voor-website.jpg
ORGANIZER;CN="Bosgroep Oost-Vlaanderen":MAILTO:bosgroep@oost-vlaanderen.be
END:VEVENT
BEGIN:VEVENT
DTSTART;TZID=Europe/Amsterdam:20240427T093000
DTEND;TZID=Europe/Amsterdam:20240427T160000
DTSTAMP:20260425T005527
CREATED:20240408T114033Z
LAST-MODIFIED:20240417T134849Z
UID:8422-1714210200-1714233600@bosgroepen.be
SUMMARY:Amfibieënwandeling
DESCRIPTION:Op zaterdag 27 april trekken we naar Makenbos\, een deelgebied van de Makegemse bossen. Tijdens deze wandeling focussen we op de amfibieën. De vuursalamander houdt meer van schaduw en leeft dus in het bos\, terwijl andere soorten juist goed gedijen in poelen. In deze regio werd speciaal daarvoor het Poelenplan uitgetekend\, een netwerk van bestaande en nieuwe poelen. Natuurgids Dominique Verbelen monitort hier amfibieënsoorten. Hij neemt je mee naar het domein van familie Verstraeten die lid zijn van de Bosgroep en vertelt je onderweg alles over salamanders\, kikkers en slootschrijvertjes. \nHet Makenbos is een biologisch zeer waardevol bos dat bestaat uit een mix van alluviaal elzen-essenbos\, populierenaanplant en eiken-haagbeukenbos. De oudste delen van het bos liggen dichtbij het kasteelpark en zijn bebost sinds 1775. Het kasteelpark vormde de kern van de middeleeuwse heerlijkheid ‘Goed ter Munte Sinckt’. Dat het Makenbos er nat zal bij liggen is een zekerheid\, want het ligt in het brongebied van de Driesbeek. \nWanneer: zaterdag 27/4 van 9u30-11u45 of van 13u30-15u45 (VOLZET)\nLocatie: kasteel van Munte (meer details na inschrijving)\nPraktisch: Laarzen zijn aan te raden. Honden kunnen niet mee op de wandeling.\nInschrijven: mail naar bosgroep@oost-vlaanderen.be met vermelding van jouw naam\, aantal personen en of je de wandeling in de voor- of namiddag verkiest. Plaatsen zijn beperkt\, dus wacht niet te lang!
URL:https://bosgroepen.be/event/amfibieenwandeling/
LOCATION:Munte
CATEGORIES:Bosgroep Oost-Vlaanderen
ATTACH;FMTTYPE=image/jpeg:https://bosgroepen.be/wp-content/uploads/2024/04/amfibiewandeling.jpg
ORGANIZER;CN="Bosgroep Oost-Vlaanderen":MAILTO:bosgroep@oost-vlaanderen.be
END:VEVENT
END:VCALENDAR