BEGIN:VCALENDAR
VERSION:2.0
PRODID:-//Bosgroepen.be - ECPv6.15.20//NONSGML v1.0//EN
CALSCALE:GREGORIAN
METHOD:PUBLISH
X-WR-CALNAME:Bosgroepen.be
X-ORIGINAL-URL:https://bosgroepen.be
X-WR-CALDESC:Evenementen voor Bosgroepen.be
REFRESH-INTERVAL;VALUE=DURATION:PT1H
X-Robots-Tag:noindex
X-PUBLISHED-TTL:PT1H
BEGIN:VTIMEZONE
TZID:Europe/Amsterdam
BEGIN:DAYLIGHT
TZOFFSETFROM:+0100
TZOFFSETTO:+0200
TZNAME:CEST
DTSTART:20250330T010000
END:DAYLIGHT
BEGIN:STANDARD
TZOFFSETFROM:+0200
TZOFFSETTO:+0100
TZNAME:CET
DTSTART:20251026T010000
END:STANDARD
BEGIN:DAYLIGHT
TZOFFSETFROM:+0100
TZOFFSETTO:+0200
TZNAME:CEST
DTSTART:20260329T010000
END:DAYLIGHT
BEGIN:STANDARD
TZOFFSETFROM:+0200
TZOFFSETTO:+0100
TZNAME:CET
DTSTART:20261025T010000
END:STANDARD
BEGIN:DAYLIGHT
TZOFFSETFROM:+0100
TZOFFSETTO:+0200
TZNAME:CEST
DTSTART:20270328T010000
END:DAYLIGHT
BEGIN:STANDARD
TZOFFSETFROM:+0200
TZOFFSETTO:+0100
TZNAME:CET
DTSTART:20271031T010000
END:STANDARD
END:VTIMEZONE
BEGIN:VEVENT
DTSTART;TZID=Europe/Amsterdam:20261003T093000
DTEND;TZID=Europe/Amsterdam:20261003T120000
DTSTAMP:20260424T165700
CREATED:20260219T105020Z
LAST-MODIFIED:20260219T105539Z
UID:10405-1791019800-1791028800@bosgroepen.be
SUMMARY:Paddenstoelenwandeling Hemsrode
DESCRIPTION:Geniet van de pracht van het historische erfgoed en de bebossing van Hemsrode.  Onze ervaren gids Eddy Saveyn vertelt er alles over de kleurrijke paddenstoelencultuur in een pallet van de mooiste herfsttinten.  Een unieke kans om het bos te bewonderen dat uitzonderlijk voor onze wandeling door de eigenaars wordt open gesteld.  Vergeet niet gepast schoeisel te voorzien. \nAfspraak om 9.30u op zaterdag 3 okt 2026 aan het Hemsrode kasteel\, Hemsrode 3 te 8570 ANZEGEM.  De wandeling duurt 2\,5u en wordt dus omtrent 12u afgerond terug op de startplaats. \nInschrijven kan je via deze link of Bosgroep IJzer en Leie vzw: bosgroepijzerenleie@west-vlaanderen.be – 057/23.08.54
URL:https://bosgroepen.be/event/paddenstoelenwandeling-hemsrode/
LOCATION:Kasteel Hemsrode\, Hemsrode 3\, Anzegem\, Hemsrode 3\, Anzegem\, West-Vlaanderen\, 8570\, België
CATEGORIES:Bosgroep Ijzer & Leie
ATTACH;FMTTYPE=image/png:https://bosgroepen.be/wp-content/uploads/2026/02/paddenstoel.png
ORGANIZER;CN="Bosgroep Ijzer & Leie":MAILTO:bosgroepijzerenleie@west-vlaanderen.be
END:VEVENT
END:VCALENDAR