BEGIN:VCALENDAR
VERSION:2.0
PRODID:-//Bosgroepen.be - ECPv6.15.20//NONSGML v1.0//EN
CALSCALE:GREGORIAN
METHOD:PUBLISH
X-ORIGINAL-URL:https://bosgroepen.be
X-WR-CALDESC:Evenementen voor Bosgroepen.be
REFRESH-INTERVAL;VALUE=DURATION:PT1H
X-Robots-Tag:noindex
X-PUBLISHED-TTL:PT1H
BEGIN:VTIMEZONE
TZID:Europe/Amsterdam
BEGIN:DAYLIGHT
TZOFFSETFROM:+0100
TZOFFSETTO:+0200
TZNAME:CEST
DTSTART:20250330T010000
END:DAYLIGHT
BEGIN:STANDARD
TZOFFSETFROM:+0200
TZOFFSETTO:+0100
TZNAME:CET
DTSTART:20251026T010000
END:STANDARD
BEGIN:DAYLIGHT
TZOFFSETFROM:+0100
TZOFFSETTO:+0200
TZNAME:CEST
DTSTART:20260329T010000
END:DAYLIGHT
BEGIN:STANDARD
TZOFFSETFROM:+0200
TZOFFSETTO:+0100
TZNAME:CET
DTSTART:20261025T010000
END:STANDARD
BEGIN:DAYLIGHT
TZOFFSETFROM:+0100
TZOFFSETTO:+0200
TZNAME:CEST
DTSTART:20270328T010000
END:DAYLIGHT
BEGIN:STANDARD
TZOFFSETFROM:+0200
TZOFFSETTO:+0100
TZNAME:CET
DTSTART:20271031T010000
END:STANDARD
END:VTIMEZONE
BEGIN:VEVENT
DTSTART;TZID=Europe/Amsterdam:20260509T093000
DTEND;TZID=Europe/Amsterdam:20260509T130000
DTSTAMP:20260425T035249
CREATED:20251119T101343Z
LAST-MODIFIED:20251119T111042Z
UID:10176-1778319000-1778331600@bosgroepen.be
SUMMARY:Bosflora in de Westhoek
DESCRIPTION:West-Vlaanderen is een relatief bosarme provincie\, met een bebost oppervlak van slechts 2\,5%.  Niettemin zijn de bestaande bossen vaak zeer natuurlijk en gevarieerd.  Om je onder te dompelen in deze rijke lokale flora\, nemen we je graag mee naar het Helleketelbos op zaterdag 9 mei 2026 in de voormiddag.  Zo kan je meteen genieten van de ruimste diversiteit van het voorjaar. \nHet Helleketelbos in Poperinge (Abele) is een Natura 2000-gebied van ongeveer 56-59 hectare. De bosflora is divers en weerspiegelt de geschiedenis van heraanplant en beheer gericht op zowel natuurwaarden als duurzaam bosbeheer.  Het bos bestaat uit een mengeling van loofbos en naaldbos (ongeveer 8 hectare naaldbos en 28 hectare loofbos). De meest voorkomende loofbomen zijn Zomereik\, Gewone Es\, Gewone Esdoorn\, Haagbeuk\, Tamme Kastanje\, Amerikaanse Eik (aangeplant).  Qua naaldhout is dat Europese Lork (aangeplant)\, Grove Den\, Douglasspar en Corsicaanse Den (aangeplant). \nEr wordt actief gebruikgemaakt van hakhoutbeheer\, waarbij bomen (zoals de Gewone Es) periodiek tot op de grond worden afgezet. Dit creëert een specifieke structuur en bevordert de biodiversiteit in de bosranden en -vakken. \nHet beheer in het Helleketelbos is specifiek gericht op het behoud van de rijke voorjaarsflora. Deze bloeiers maken gebruik van het licht dat de bosbodem bereikt voordat de loofbomen vol in blad staan.  Kenmerkende voorjaarsbloeiers zijn Wilde Hyacint (vaak lokaal ‘blauwe kousjes’ genoemd)\, Bosanemoon\, Kleine Maagdenpalm\, Witte Klaverzuring\, Speenkruid.  Andere kruidachtige planten zijn Dubbelloof\, Veelbloemige Salomonszegel of Muur. \nDe meest interessante plekjes met een specifieke flora bevinden zich langs de bosranden en in de vochtige Vallei van de Bommelaarsbeek die door het bos loopt.  Langs beek en randen vind je vaak wilde rozen\, meidoorn en boskersen.  Historische soorten: De Biologische Waarderingskaart vermeldt\, in het verleden en op de drogere plekken die vroeger als heide werden beheerd\, ook zeldzamere soorten zoals Hangende zegge\, Berghertshooi\, Gaspeldoorn en Jeneverbes. \nDoor de variatie in bodem (zandleemgronden)\, de vochtige vallei\, de hakhoutpercelen en de mix van loof- en naaldhout\, biedt het Helleketelbos een gevarieerde leefomgeving voor een breed scala aan plantensoorten.  Klaar voor een bossafari in onze eigen Westhoek?  Stuur ons een seintje naar bosgroepijzerenleie@west-vlaanderen.be en we bezorgen je binnenkort een uitnodiging bij de start van de inschrijvingen.  De plaatsen zijn beperkt (20 personen). \nPraktisch: \n datum: zaterdag 09/05/2026 \n locatie: Helleketelbos\, Vijfgemetenstraat 4 te Abele (Poperinge) \n lesgever: Inverde\, Wim Massant \n planning: halve dag inclusief afsluitende drink \n\n9u30: Start aan de Vijfgemetenstraat 4 te Abele\, parking vlakbij\n9u30 – 12.30u: stevige boswandeling onder begeleiding van Wim Massant\n12.30u – 13u: drink aangeboden door Bosgroep IJzer & Leie ter plaatse\n\n kostprijs: 10 EUR (leden) en 20 EUR (niet-leden) \n Doelgroep: alle bos- en natuurliefhebbers \n voorzie aangepast schoeisel en kledij voor bezoek bos \n inschrijven?  Kan vanaf 1 maart 2026 online via deze link (of https://entrytickets.be/bosgroep-ijzer-leie/bosflora-in-de-westhoek) of  via bosgroepijzerenleie@west-vlaanderen.be of telefonisch via  057/23.08.54 als de online inschrijving niet zou lukken.
URL:https://bosgroepen.be/event/bosflora-in-de-westhoek/
LOCATION:Helleketelbos\, Vijfgemetenstraat 4\, Abele\, 8970\, Belgium
CATEGORIES:Bosgroep Ijzer & Leie
ATTACH;FMTTYPE=image/jpeg:https://bosgroepen.be/wp-content/uploads/2025/11/ingang-bos.jpg
ORGANIZER;CN="Bosgroep Ijzer & Leie":MAILTO:bosgroepijzerenleie@west-vlaanderen.be
END:VEVENT
END:VCALENDAR