BEGIN:VCALENDAR
VERSION:2.0
PRODID:-//Bosgroepen.be - ECPv6.15.20//NONSGML v1.0//EN
CALSCALE:GREGORIAN
METHOD:PUBLISH
X-WR-CALNAME:Bosgroepen.be
X-ORIGINAL-URL:https://bosgroepen.be
X-WR-CALDESC:Evenementen voor Bosgroepen.be
REFRESH-INTERVAL;VALUE=DURATION:PT1H
X-Robots-Tag:noindex
X-PUBLISHED-TTL:PT1H
BEGIN:VTIMEZONE
TZID:Europe/Amsterdam
BEGIN:DAYLIGHT
TZOFFSETFROM:+0100
TZOFFSETTO:+0200
TZNAME:CEST
DTSTART:20180325T010000
END:DAYLIGHT
BEGIN:STANDARD
TZOFFSETFROM:+0200
TZOFFSETTO:+0100
TZNAME:CET
DTSTART:20181028T010000
END:STANDARD
BEGIN:DAYLIGHT
TZOFFSETFROM:+0100
TZOFFSETTO:+0200
TZNAME:CEST
DTSTART:20190331T010000
END:DAYLIGHT
BEGIN:STANDARD
TZOFFSETFROM:+0200
TZOFFSETTO:+0100
TZNAME:CET
DTSTART:20191027T010000
END:STANDARD
BEGIN:DAYLIGHT
TZOFFSETFROM:+0100
TZOFFSETTO:+0200
TZNAME:CEST
DTSTART:20200329T010000
END:DAYLIGHT
BEGIN:STANDARD
TZOFFSETFROM:+0200
TZOFFSETTO:+0100
TZNAME:CET
DTSTART:20201025T010000
END:STANDARD
END:VTIMEZONE
BEGIN:VEVENT
DTSTART;TZID=Europe/Amsterdam:20190407T110000
DTEND;TZID=Europe/Amsterdam:20190407T160000
DTSTAMP:20260424T112700
CREATED:20181126T134227Z
LAST-MODIFIED:20190311T145455Z
UID:2650-1554634800-1554652800@bosgroepen.be
SUMMARY:Bosgroep Antwerpen Noord viert feest!
DESCRIPTION:Onze ‘houten’ jaren zijn reeds voorbij\, zelfs de 10 staat al op onze teller\, meer nog: in 2019 is onze Bosgroep al 12\,5 jaar actief! \nDaarom vieren we feest op zondag 7 april 2019 vanaf 11u in de Dorpstraat 3 te Berendrecht. \nHou deze datum met stip vrij om samen terug te kijken\, en bovenal vooruit te blikken naar de vele boeiende bosuitdagingen! \nDie dag voorzien we voor ieder wat wils: een feestelijke Algemene Vergadering\, een informatieve bosmarkt\, interactieve demonstraties en leerrijke boswandelingen. \nTussendoor kan je genieten van een broodjeslunch onder bosliefhebbers en afsluiten doen we met het uitblazen van 12\,5 kaarsjes op onze verjaardagstaart. \nAls leden-boseigenaars en liefhebbers ontvangen jullie in februari 2019 een extra uitnodiging met meer details. \nInschrijving voor ” Bosgroep AN viert feest! ” : HIER . \n  \nAanpassing lidmaatschap per post voor onze huidige leden : HIER kan u uw lidmaatschap en gegevens aanpassen ! \nWenst u nieuw lid te worden van de Bosgroep AN\, dan kan dat via dit formulier : LIDMAATSCHAP bij de BOSGROEP ANTWERPEN NOORD.
URL:https://bosgroepen.be/event/bganfeest/
LOCATION:West-Vlaanderen
CATEGORIES:Bosgroep Antwerpen Noord
END:VEVENT
END:VCALENDAR